BEGIN:VCALENDAR
VERSION:2.0
PRODID:-//Texas Silver Haired Legislature - ECPv6.15.18//NONSGML v1.0//EN
CALSCALE:GREGORIAN
METHOD:PUBLISH
X-WR-CALNAME:Texas Silver Haired Legislature
X-ORIGINAL-URL:https://tshl.org
X-WR-CALDESC:Events for Texas Silver Haired Legislature
REFRESH-INTERVAL;VALUE=DURATION:PT1H
X-Robots-Tag:noindex
X-PUBLISHED-TTL:PT1H
BEGIN:VTIMEZONE
TZID:America/Chicago
BEGIN:DAYLIGHT
TZOFFSETFROM:-0600
TZOFFSETTO:-0500
TZNAME:CDT
DTSTART:20220313T080000
END:DAYLIGHT
BEGIN:STANDARD
TZOFFSETFROM:-0500
TZOFFSETTO:-0600
TZNAME:CST
DTSTART:20221106T070000
END:STANDARD
BEGIN:DAYLIGHT
TZOFFSETFROM:-0600
TZOFFSETTO:-0500
TZNAME:CDT
DTSTART:20230312T080000
END:DAYLIGHT
BEGIN:STANDARD
TZOFFSETFROM:-0500
TZOFFSETTO:-0600
TZNAME:CST
DTSTART:20231105T070000
END:STANDARD
BEGIN:DAYLIGHT
TZOFFSETFROM:-0600
TZOFFSETTO:-0500
TZNAME:CDT
DTSTART:20240310T080000
END:DAYLIGHT
BEGIN:STANDARD
TZOFFSETFROM:-0500
TZOFFSETTO:-0600
TZNAME:CST
DTSTART:20241103T070000
END:STANDARD
BEGIN:DAYLIGHT
TZOFFSETFROM:-0600
TZOFFSETTO:-0500
TZNAME:CDT
DTSTART:20250309T080000
END:DAYLIGHT
BEGIN:STANDARD
TZOFFSETFROM:-0500
TZOFFSETTO:-0600
TZNAME:CST
DTSTART:20251102T070000
END:STANDARD
BEGIN:DAYLIGHT
TZOFFSETFROM:-0600
TZOFFSETTO:-0500
TZNAME:CDT
DTSTART:20260308T080000
END:DAYLIGHT
BEGIN:STANDARD
TZOFFSETFROM:-0500
TZOFFSETTO:-0600
TZNAME:CST
DTSTART:20261101T070000
END:STANDARD
BEGIN:DAYLIGHT
TZOFFSETFROM:-0600
TZOFFSETTO:-0500
TZNAME:CDT
DTSTART:20270314T080000
END:DAYLIGHT
BEGIN:STANDARD
TZOFFSETFROM:-0500
TZOFFSETTO:-0600
TZNAME:CST
DTSTART:20271107T070000
END:STANDARD
END:VTIMEZONE
BEGIN:VEVENT
DTSTART;VALUE=DATE:20260517
DTEND;VALUE=DATE:20260523
DTSTAMP:20260421T140119
CREATED:20240413T163929Z
LAST-MODIFIED:20260220T155107Z
UID:5047-1778976000-1779494399@tshl.org
SUMMARY:TSHL LEGISLATIVE SESSION
DESCRIPTION:The Texas Silver-Haired Legislature will meet in session at the Texas Capitol to review\, debate\, and vote on Resolutions identified as important to older Texans.  The Resolutions which pass will be published in the mandated Legislative Report and provided to the Governor\, Lt. Governor\, Comptroller\, members of the Texas House of Representatives and Texas Senate\, and Area Agency on Aging Executive Directors as a resource for planning legislation to be presented to the 89th Texas Legislature.
URL:https://tshl.org/event/tshl-legislative-session/
LOCATION:Texas State Capitol\, House Chambers\, The Texas Capitol\, Austin\, TX\, 78701\, United States
END:VEVENT
BEGIN:VEVENT
DTSTART;VALUE=DATE:20231112
DTEND;VALUE=DATE:20231116
DTSTAMP:20260421T140119
CREATED:20231112T070021Z
LAST-MODIFIED:20230905T212038Z
UID:4225-1699747200-1700092799@tshl.org
SUMMARY:TSHL Member Development Session November 2023
DESCRIPTION:Details to come
URL:https://tshl.org/event/san-marcos-training-session/
LOCATION:TX
END:VEVENT
BEGIN:VEVENT
DTSTART;VALUE=DATE:20231112
DTEND;VALUE=DATE:20231116
DTSTAMP:20260421T140119
CREATED:20230905T210759Z
LAST-MODIFIED:20230905T210759Z
UID:4511-1699747200-1700092799@tshl.org
SUMMARY:TSHL Membership Development Session
DESCRIPTION:
URL:https://tshl.org/event/tshl-membership-development-session/
LOCATION:Embassy Suites San Marcos\, Texas\, 1001 E McCarty Lane\, San Marcos\, TX\, 78666\, United States
END:VEVENT
BEGIN:VEVENT
DTSTART;VALUE=DATE:20230716
DTEND;VALUE=DATE:20230724
DTSTAMP:20260421T140119
CREATED:20221022T160425Z
LAST-MODIFIED:20221022T160928Z
UID:4221-1689465600-1690156799@tshl.org
SUMMARY:TSHL Orientation Session
DESCRIPTION:More details to come
URL:https://tshl.org/event/tshl-orientation-session/
LOCATION:Pflugerville Location\, Pflugerville\, Texas
END:VEVENT
BEGIN:VEVENT
DTSTART;TZID=America/Chicago:20230221T180000
DTEND;TZID=America/Chicago:20230221T220000
DTSTAMP:20260421T140119
CREATED:20221022T155915Z
LAST-MODIFIED:20221022T155915Z
UID:4218-1677002400-1677016800@tshl.org
SUMMARY:TSHL Foundation Gala
DESCRIPTION:
URL:https://tshl.org/event/tshl-foundation-gala/
LOCATION:Bullock Texas State History Museum\, 1800 Congress Ave\, Austin\, Texas\, 78701
END:VEVENT
BEGIN:VEVENT
DTSTART;VALUE=DATE:20230221
DTEND;VALUE=DATE:20230222
DTSTAMP:20260421T140119
CREATED:20221022T154638Z
LAST-MODIFIED:20221022T161026Z
UID:4216-1676937600-1677023999@tshl.org
SUMMARY:Executive Committee Meeting
DESCRIPTION:Location in Austin.  More details to come.
URL:https://tshl.org/event/executive-committee-meeting/
LOCATION:TX
END:VEVENT
END:VCALENDAR